BEGIN:VCALENDAR
VERSION:2.0
PRODID:-//wp-events-plugin.com//7.2.2.1//EN
TZID:Europe/London
X-WR-TIMEZONE:Europe/London
BEGIN:VEVENT
UID:280@rida.shu.ac.uk
DTSTART;TZID=Europe/London:20260603T140000
DTEND;TZID=Europe/London:20260603T150000
DTSTAMP:20260319T095527Z
URL:https://rida.shu.ac.uk/events/centre-for-collaboration-in-community-co
 nnectedness-seminar-4/
SUMMARY:Centre for Collaboration in Community Connectedness Seminar
DESCRIPTION:We warmly invite SHU staff to our online seminar series hosted 
 by The Centre for Collaboration in Community Connectedness. Please do join
  us for any or all of the sessions below\, we would love to see you there!
  🥰\nThe session details and Microsoft Teams links are below:\nUsing Gam
 e Methodology to Strengthen Community Connectedness\nProfessor Vikki McCal
 l\, Socialudo Ltd\nWednesday 3rd June 2026\, 2-3pm\nJoin: https://teams.mi
 crosoft.com/meet/37669650904656?p=FmOy0gKY309I8X6IHr\nMeeting ID: 376 696 
 509 046 56\nPasscode: 9BM9Uc2i
CATEGORIES:College of Social Sciences and Arts,Online,Research Centre -
 C4,Seminar
END:VEVENT
BEGIN:VTIMEZONE
TZID:Europe/London
X-LIC-LOCATION:Europe/London
BEGIN:DAYLIGHT
DTSTART:20260329T020000
TZOFFSETFROM:+0000
TZOFFSETTO:+0100
TZNAME:BST
END:DAYLIGHT
END:VTIMEZONE
END:VCALENDAR